BEGIN:VCALENDAR
VERSION:2.0
PRODID:-//81.88.36.23//NONSGML kigkonsult.se iCalcreator 2.20//
CALSCALE:GREGORIAN
METHOD:PUBLISH
X-WR-TIMEZONE:Europe/Berlin
BEGIN:VEVENT
UID:event153@SV Einheit Ueckermünde
DTSTAMP:20260420T033024Z
CATEGORIES:Termine
DESCRIPTION:34. Ueckermünder Abendlauf\nKategorie: Termine\nICS-Link: https
 ://www.sv-einheit-ueckermuende.eu/index.php?option=com_jem&view=event&id=1
 53:34-ueckermuender-abendlauf\n
DTSTART;TZID=Europe/Berlin:20260725T180000
DTEND;TZID=Europe/Berlin:20260725T180000
LOCATION:Sporthalle Regionalschule\,Goethestraße 3\,17373 Ueckermünde
SUMMARY:34. Ueckermünder Abendlauf
URL:https://www.sv-einheit-ueckermuende.eu/index.php?option=com_jem&view=ev
 ent&id=153:34-ueckermuender-abendlauf
END:VEVENT
END:VCALENDAR
