BEGIN:VCALENDAR
VERSION:2.0
PRODID:-//81.88.36.23//NONSGML kigkonsult.se iCalcreator 2.20//
CALSCALE:GREGORIAN
METHOD:PUBLISH
X-WR-TIMEZONE:Europe/Berlin
BEGIN:VEVENT
UID:event146@SV Einheit Ueckermünde
DTSTAMP:20260420T033018Z
CATEGORIES:Termine
DESCRIPTION:Mitgliederversammlung\nKategorie: Termine\nICS-Link: https://ww
 w.sv-einheit-ueckermuende.eu/index.php?option=com_jem&view=event&id=146:mi
 tgliederversammlung\n
DTSTART;TZID=Europe/Berlin:20260422T190000
DTEND;TZID=Europe/Berlin:20260422T210000
LOCATION:Seminarraum\,Goethestraße 3\,17373 Ueckermünde\,Germany
SUMMARY:Mitgliederversammlung
URL:https://www.sv-einheit-ueckermuende.eu/index.php?option=com_jem&view=ev
 ent&id=146:mitgliederversammlung
END:VEVENT
BEGIN:VEVENT
UID:event147@SV Einheit Ueckermünde
DTSTAMP:20260420T033018Z
CATEGORIES:Termine
DESCRIPTION:Vorstandsitzung\nKategorie: Termine\nICS-Link: https://www.sv-e
 inheit-ueckermuende.eu/index.php?option=com_jem&view=event&id=147:vorstand
 sitzung\n
DTSTART;TZID=Europe/Berlin:20260622T183000
DTEND;TZID=Europe/Berlin:20260622T183000
LOCATION:Seminarraum\,Goethestraße 3\,17373 Ueckermünde\,Germany
SUMMARY:Vorstandsitzung
URL:https://www.sv-einheit-ueckermuende.eu/index.php?option=com_jem&view=ev
 ent&id=147:vorstandsitzung
END:VEVENT
BEGIN:VEVENT
UID:event148@SV Einheit Ueckermünde
DTSTAMP:20260420T033018Z
CATEGORIES:Termine
DESCRIPTION:Vorstandsitzung\nKategorie: Termine\nICS-Link: https://www.sv-e
 inheit-ueckermuende.eu/index.php?option=com_jem&view=event&id=148:vorstand
 sitzung\n
DTSTART;TZID=Europe/Berlin:20260824T183000
DTEND;TZID=Europe/Berlin:20260824T183000
LOCATION:Seminarraum\,Goethestraße 3\,17373 Ueckermünde\,Germany
SUMMARY:Vorstandsitzung
URL:https://www.sv-einheit-ueckermuende.eu/index.php?option=com_jem&view=ev
 ent&id=148:vorstandsitzung
END:VEVENT
BEGIN:VEVENT
UID:event149@SV Einheit Ueckermünde
DTSTAMP:20260420T033018Z
CATEGORIES:Termine
DESCRIPTION:Vorstandsitzung\nKategorie: Termine\nICS-Link: https://www.sv-e
 inheit-ueckermuende.eu/index.php?option=com_jem&view=event&id=149:vorstand
 sitzung\n
DTSTART;TZID=Europe/Berlin:20260928T183000
DTEND;TZID=Europe/Berlin:20260928T183000
LOCATION:Seminarraum\,Goethestraße 3\,17373 Ueckermünde\,Germany
SUMMARY:Vorstandsitzung
URL:https://www.sv-einheit-ueckermuende.eu/index.php?option=com_jem&view=ev
 ent&id=149:vorstandsitzung
END:VEVENT
BEGIN:VEVENT
UID:event151@SV Einheit Ueckermünde
DTSTAMP:20260420T033018Z
CATEGORIES:Termine
DESCRIPTION:erweiterte Vorstandsitzung\nKategorie: Termine\nICS-Link: https
 ://www.sv-einheit-ueckermuende.eu/index.php?option=com_jem&view=event&id=1
 51:vorstandsitzung\n
DTSTART;TZID=Europe/Berlin:20261021T190000
DTEND;TZID=Europe/Berlin:20261021T190000
LOCATION:Seminarraum\,Goethestraße 3\,17373 Ueckermünde\,Germany
SUMMARY:erweiterte Vorstandsitzung
URL:https://www.sv-einheit-ueckermuende.eu/index.php?option=com_jem&view=ev
 ent&id=151:vorstandsitzung
END:VEVENT
BEGIN:VEVENT
UID:event150@SV Einheit Ueckermünde
DTSTAMP:20260420T033018Z
CATEGORIES:Termine
DESCRIPTION:Vorstandsitzung\nKategorie: Termine\nICS-Link: https://www.sv-e
 inheit-ueckermuende.eu/index.php?option=com_jem&view=event&id=150:vorstand
 sitzung\n
DTSTART;TZID=Europe/Berlin:20261214T183000
DTEND;TZID=Europe/Berlin:20261214T183000
LOCATION:Seminarraum\,Goethestraße 3\,17373 Ueckermünde\,Germany
SUMMARY:Vorstandsitzung
URL:https://www.sv-einheit-ueckermuende.eu/index.php?option=com_jem&view=ev
 ent&id=150:vorstandsitzung
END:VEVENT
END:VCALENDAR
