BEGIN:VCALENDAR
VERSION:2.0
PRODID:-//81.88.36.23//NONSGML kigkonsult.se iCalcreator 2.20//
CALSCALE:GREGORIAN
METHOD:PUBLISH
X-WR-TIMEZONE:Europe/Berlin
BEGIN:VEVENT
UID:event152@SV Einheit Ueckermünde
DTSTAMP:20260420T031558Z
CATEGORIES:Termine
DESCRIPTION:Ueckermünder Bahnlauf I\nKategorie: Termine\nICS-Link: https://
 www.sv-einheit-ueckermuende.eu/index.php?option=com_jem&view=event&id=152:
 ueckermuender-bahnlauf-i\n
DTSTART;TZID=Europe/Berlin:20260513T170000
DTEND;TZID=Europe/Berlin:20260513T170000
LOCATION:Waldstadion\,17373 Ueckermünde
SUMMARY:Ueckermünder Bahnlauf I
URL:https://www.sv-einheit-ueckermuende.eu/index.php?option=com_jem&view=ev
 ent&id=152:ueckermuender-bahnlauf-i
END:VEVENT
END:VCALENDAR
