BEGIN:VCALENDAR
VERSION:2.0
PRODID:-//81.88.36.23//NONSGML kigkonsult.se iCalcreator 2.20//
CALSCALE:GREGORIAN
METHOD:PUBLISH
X-WR-TIMEZONE:Europe/Berlin
BEGIN:VEVENT
UID:event151@SV Einheit Ueckermünde
DTSTAMP:20260420T031415Z
CATEGORIES:Termine
DESCRIPTION:erweiterte Vorstandsitzung\nKategorie: Termine\nICS-Link: https
 ://www.sv-einheit-ueckermuende.eu/index.php?option=com_jem&view=event&id=1
 51:vorstandsitzung\n
DTSTART;TZID=Europe/Berlin:20261021T190000
DTEND;TZID=Europe/Berlin:20261021T190000
LOCATION:Seminarraum\,Goethestraße 3\,17373 Ueckermünde
SUMMARY:erweiterte Vorstandsitzung
URL:https://www.sv-einheit-ueckermuende.eu/index.php?option=com_jem&view=ev
 ent&id=151:vorstandsitzung
END:VEVENT
END:VCALENDAR
