BEGIN:VCALENDAR
VERSION:2.0
PRODID:-//81.88.36.23//NONSGML kigkonsult.se iCalcreator 2.20//
CALSCALE:GREGORIAN
METHOD:PUBLISH
X-WR-TIMEZONE:Europe/Berlin
BEGIN:VEVENT
UID:event141@SV Einheit Ueckermünde
DTSTAMP:20260420T031620Z
CATEGORIES:Termine
DESCRIPTION:4. Uecker-Randow Firmenbeachcup\nKategorie: Termine\nICS-Link: 
 https://www.sv-einheit-ueckermuende.eu/index.php?option=com_jem&view=event
 &id=141:uecker-randow-firmenbeachcup\n
DTSTART;TZID=Europe/Berlin:20260508T130000
DTEND;TZID=Europe/Berlin:20260508T180000
LOCATION:Bellini Beach\,Strandweg 13-15\,17373 Ueckermünde
SUMMARY:4. Uecker-Randow Firmenbeachcup
URL:https://www.sv-einheit-ueckermuende.eu/index.php?option=com_jem&view=ev
 ent&id=141:uecker-randow-firmenbeachcup
END:VEVENT
END:VCALENDAR
